BEGIN:VCALENDAR
VERSION:2.0
PRODID:-//Brown County Playhouse - ECPv6.15.20//NONSGML v1.0//EN
CALSCALE:GREGORIAN
METHOD:PUBLISH
X-WR-CALNAME:Brown County Playhouse
X-ORIGINAL-URL:https://browncountyplayhouse.org
X-WR-CALDESC:Events for Brown County Playhouse
REFRESH-INTERVAL;VALUE=DURATION:PT1H
X-Robots-Tag:noindex
X-PUBLISHED-TTL:PT1H
BEGIN:VTIMEZONE
TZID:America/Indiana/Indianapolis
BEGIN:DAYLIGHT
TZOFFSETFROM:-0500
TZOFFSETTO:-0400
TZNAME:EDT
DTSTART:20250309T070000
END:DAYLIGHT
BEGIN:STANDARD
TZOFFSETFROM:-0400
TZOFFSETTO:-0500
TZNAME:EST
DTSTART:20251102T060000
END:STANDARD
BEGIN:DAYLIGHT
TZOFFSETFROM:-0500
TZOFFSETTO:-0400
TZNAME:EDT
DTSTART:20260308T070000
END:DAYLIGHT
BEGIN:STANDARD
TZOFFSETFROM:-0400
TZOFFSETTO:-0500
TZNAME:EST
DTSTART:20261101T060000
END:STANDARD
BEGIN:DAYLIGHT
TZOFFSETFROM:-0500
TZOFFSETTO:-0400
TZNAME:EDT
DTSTART:20270314T070000
END:DAYLIGHT
BEGIN:STANDARD
TZOFFSETFROM:-0400
TZOFFSETTO:-0500
TZNAME:EST
DTSTART:20271107T060000
END:STANDARD
END:VTIMEZONE
BEGIN:VEVENT
DTSTART;TZID=America/Indiana/Indianapolis:20260605T193000
DTEND;TZID=America/Indiana/Indianapolis:20260605T213000
DTSTAMP:20260423T080915
CREATED:20260402T145229Z
LAST-MODIFIED:20260403T125211Z
UID:10001437-1780687800-1780695000@browncountyplayhouse.org
SUMMARY:Moon Over Buffalo [Live Theatre]
DESCRIPTION:Moon Over Buffalo \nby Ken Ludwig \nIt is the summer of 1953\, and George and Charlotte Hay\, former Broadway stars\, have taken their run-down touring company to Buffalo\, New York. In Buffalo they have the intention of running “Cyrano de Bergerac” and “Private Lives” in repertory\, all the while grumbling about missed Hollywood opportunities. But on-stage harmony is compromised when George performs an off-stage infidelity\, impregnating the company’s ingenue. When Charlotte learns of this\, she prepares to run away with the family lawyer\, sending lightweight George on a grief-stricken drinking binge. Meanwhile\, it  turns out that Frank Capra is headed to town on a talent scouting mission looking to hire the couple for his swashbuckling Scarlet Pimpernel epic. As a result\, the Hay family — including scornful\, deaf mother-in-law Ethel\, determinedly practical daughter Rosalind\, and dashing actor Paul\, Rosalind’s ex-boyfriend — must work overtime to get sloppy drunk George into his Cyrano hat and nose…. or is it his Elyot Chase smoking jacket? With the entrance of Rosalind’s fiancé\, anxious TV weatherman Howard — one man with two mistaken identities — and Richard Maynard\, the wealthy lawyer hoping to lure Charlotte away to his mansion — the confusion only intensifies. \n  \nCAST & CREW\nGeorge: Ed Phillips\nPaul: Brenden King\nHoward: Larry Compton\nRichard: Tim Staggs\nCharlotte: Kristy Kelly\nRosalind: Dania Leova\nEileen: Erin Rudich\nEthel: Sheila Popplewell \nDirector: Steve Booker\nAssistant Director: Wendi Gore \n  \nTickets - Fri\, May 29\, 7:30 PM\n\nTickets - Sat\, May 30\, 7:30 PM\n\nTickets - Sun\, May 31\, 2:30 PM\n\nTickets - Fri\, June 5\, 7:30 PM\n\nTickets - Sat\, June 6\, 7:30 PM
URL:https://browncountyplayhouse.org/event/moon-over-buffalo-live-theatre/2026-06-05/
LOCATION:Brown County Playhouse\, 70 S. Van Buren St\, Nashville\, IN\, 47448\, United States
CATEGORIES:Featured Event,Live Shows,Play,Theatre
ATTACH;FMTTYPE=image/jpeg:https://browncountyplayhouse.org/wp-content/uploads/2026/04/2026-MoonOverBuffalo_web_event.jpg
END:VEVENT
BEGIN:VEVENT
DTSTART;TZID=America/Indiana/Indianapolis:20260606T193000
DTEND;TZID=America/Indiana/Indianapolis:20260606T213000
DTSTAMP:20260423T080915
CREATED:20260402T145229Z
LAST-MODIFIED:20260403T125211Z
UID:10001438-1780774200-1780781400@browncountyplayhouse.org
SUMMARY:Moon Over Buffalo [Live Theatre]
DESCRIPTION:Moon Over Buffalo \nby Ken Ludwig \nIt is the summer of 1953\, and George and Charlotte Hay\, former Broadway stars\, have taken their run-down touring company to Buffalo\, New York. In Buffalo they have the intention of running “Cyrano de Bergerac” and “Private Lives” in repertory\, all the while grumbling about missed Hollywood opportunities. But on-stage harmony is compromised when George performs an off-stage infidelity\, impregnating the company’s ingenue. When Charlotte learns of this\, she prepares to run away with the family lawyer\, sending lightweight George on a grief-stricken drinking binge. Meanwhile\, it  turns out that Frank Capra is headed to town on a talent scouting mission looking to hire the couple for his swashbuckling Scarlet Pimpernel epic. As a result\, the Hay family — including scornful\, deaf mother-in-law Ethel\, determinedly practical daughter Rosalind\, and dashing actor Paul\, Rosalind’s ex-boyfriend — must work overtime to get sloppy drunk George into his Cyrano hat and nose…. or is it his Elyot Chase smoking jacket? With the entrance of Rosalind’s fiancé\, anxious TV weatherman Howard — one man with two mistaken identities — and Richard Maynard\, the wealthy lawyer hoping to lure Charlotte away to his mansion — the confusion only intensifies. \n  \nCAST & CREW\nGeorge: Ed Phillips\nPaul: Brenden King\nHoward: Larry Compton\nRichard: Tim Staggs\nCharlotte: Kristy Kelly\nRosalind: Dania Leova\nEileen: Erin Rudich\nEthel: Sheila Popplewell \nDirector: Steve Booker\nAssistant Director: Wendi Gore \n  \nTickets - Fri\, May 29\, 7:30 PM\n\nTickets - Sat\, May 30\, 7:30 PM\n\nTickets - Sun\, May 31\, 2:30 PM\n\nTickets - Fri\, June 5\, 7:30 PM\n\nTickets - Sat\, June 6\, 7:30 PM
URL:https://browncountyplayhouse.org/event/moon-over-buffalo-live-theatre/2026-06-06/
LOCATION:Brown County Playhouse\, 70 S. Van Buren St\, Nashville\, IN\, 47448\, United States
CATEGORIES:Featured Event,Live Shows,Play,Theatre
ATTACH;FMTTYPE=image/jpeg:https://browncountyplayhouse.org/wp-content/uploads/2026/04/2026-MoonOverBuffalo_web_event.jpg
END:VEVENT
BEGIN:VEVENT
DTSTART;TZID=America/Indiana/Indianapolis:20260612T193000
DTEND;TZID=America/Indiana/Indianapolis:20260612T213000
DTSTAMP:20260423T080915
CREATED:20260331T183841Z
LAST-MODIFIED:20260331T184025Z
UID:10001424-1781292600-1781299800@browncountyplayhouse.org
SUMMARY:Worship Through The Decades - Ron Bridgewater & Friends
DESCRIPTION:Experience a heartfelt journey through timeless worship songs from the past to today. Sing along to the classics you love and discover new favorites in this uplifting concert for all ages. \n\n\n\n\nBUY TICKETS
URL:https://browncountyplayhouse.org/event/worship-through-the-decades-2026/
LOCATION:Brown County Playhouse\, 70 S. Van Buren St\, Nashville\, IN\, 47448\, United States
CATEGORIES:Featured Event,Live Shows,Music
ATTACH;FMTTYPE=image/jpeg:https://browncountyplayhouse.org/wp-content/uploads/2026/03/2026Worship_web_event-1.jpg
END:VEVENT
BEGIN:VEVENT
DTSTART;TZID=America/Indiana/Indianapolis:20260613T193000
DTEND;TZID=America/Indiana/Indianapolis:20260613T213000
DTSTAMP:20260423T080915
CREATED:20260310T142037Z
LAST-MODIFIED:20260310T142037Z
UID:10001421-1781379000-1781386200@browncountyplayhouse.org
SUMMARY:Dead Letter Office: A Tribute to R.E.M.
DESCRIPTION:Dead Letter Office have dedicated themselves to faithfully reproducing the music and energy of a live R.E.M. show. Since 2014\, Dead Letter Office has been thrilling audiences throughout the U.S. & Canada\, providing a show that’s been sorely missed since R.E.M called it quits. \nDead Letter Office not only performs R.E.M.’s major hits but also dives deep into their catalog to please the die-hard fans! \nDead Letter Office has also been joined onstage by members of R.E.M.!! Mike Mills joined them on stage in Buffalo\, NY for Man on the Moon. Peter Buck joined them onstage at Clusterfest in San Francisco\, CA (in front of 8000 people) for Sitting Still and So. Central Rain! \n“I think we can unequivocally say that ‘You are the Best [R.E.M. tribute]’” – Adam Scott\, actor (Parks and Recreation)\, and uber R.E.M. fan \n“You guys were terrific\, nothing short of mesmerizing. I’ll be first in line for your return show!!” – Patton Biddle\, R.E.M.’s sound man in early days \n“[An] excellent R.E.M. tribute band.” – Rob Sheffield\, Contributing Writer\, Rolling Stone \n“[The] greatest R.E.M. tribute band is called Dead Letter Office\, and they rule. If they come to your town\, go.” – Patrick Hosken\, @MTVNews and @Billboard \nBUY TICKETS\n\n \nBUY TICKETS
URL:https://browncountyplayhouse.org/event/dead-letter-office-a-tribute-to-rem-2026/
LOCATION:Brown County Playhouse\, 70 S. Van Buren St\, Nashville\, IN\, 47448\, United States
CATEGORIES:Clasic Rock,Featured Event
ATTACH;FMTTYPE=image/jpeg:https://browncountyplayhouse.org/wp-content/uploads/2026/03/2026-REM_web_event.jpg
END:VEVENT
BEGIN:VEVENT
DTSTART;TZID=America/Indiana/Indianapolis:20260619T193000
DTEND;TZID=America/Indiana/Indianapolis:20260619T213000
DTSTAMP:20260423T080915
CREATED:20260416T185335Z
LAST-MODIFIED:20260417T030058Z
UID:10001441-1781897400-1781904600@browncountyplayhouse.org
SUMMARY:An Evening of Classic Country feat. The Roundups and Bakersfield Bound
DESCRIPTION:An Evening of Classic Country featuring Bakersfield Bound & The Roundups Brown County Playhouse \nA classic country double-header you won’t want to miss. Bakersfield Bound and The Roundups join forces for one night of the songs and sounds that never go out of style — rich harmonies\, amazing fiddle playing\, fantastic guitar picking\, and stories that still ring true. Whether you grew up on this music or you’re just finding it\, this is an evening worth dressing up for. \nBUY TICKETS\n\n 
URL:https://browncountyplayhouse.org/event/an-evening-of-classic-country-2026/
LOCATION:Brown County Playhouse\, 70 S. Van Buren St\, Nashville\, IN\, 47448\, United States
CATEGORIES:Country,Featured Event,Music,Pop Rock
ATTACH;FMTTYPE=image/jpeg:https://browncountyplayhouse.org/wp-content/uploads/2026/04/2026ClassicCountry_web_event.jpg
END:VEVENT
BEGIN:VEVENT
DTSTART;TZID=America/Indiana/Indianapolis:20260620T193000
DTEND;TZID=America/Indiana/Indianapolis:20260620T213000
DTSTAMP:20260423T080915
CREATED:20260406T185919Z
LAST-MODIFIED:20260406T190953Z
UID:10001439-1781983800-1781991000@browncountyplayhouse.org
SUMMARY:Vicki Peterson and John Cowsill
DESCRIPTION:Vicki Peterson\, a founding member of The Bangles\, whose work includes the #1 hit “Walk Like An Egyptian” and several other Top 10 songs\, such as “Eternal Flame”\, teams up with John Cowsill\, drummer/vocalist for The Beach Boys for over 23 years and original member of the platinum-selling family band\, The Cowsills\, to lovingly present their debut Americana album comprised of songs written by John’s late brothers\, Barry and Bill Cowsill titled\, Long After The Fire. \nIt all began with the songs…exquisitely written by John’s brothers at various points in their all-too-short lives. These ‘Roy Orbison’ meets ‘The Everly Brothers’ tunes are true gems unearthed like treasures from The Cowsill family archives. \nGet ready to hear the latest tracks from their new album alongside iconic classics from The Bangles and The Cowsills all while they reveal the fascinating stories behind the music—perfect for the ultimate fans! It will be an incredible night filled with music\, love\, and unforgettable moments. \n\n\n\n\n\nWith special guest SAMI RIGGS. Winner of the 2025 Brown County Songwriter Showdown. \n\n\n\n\n\n \n \nBUY TICKETS\n\n 
URL:https://browncountyplayhouse.org/event/vicki-peterson-and-john-cowsill-2026/
LOCATION:Brown County Playhouse\, 70 S. Van Buren St\, Nashville\, IN\, 47448\, United States
CATEGORIES:Clasic Rock,Featured Event,Music,Pop Rock
ATTACH;FMTTYPE=image/jpeg:https://browncountyplayhouse.org/wp-content/uploads/2026/04/2026-VJ_web_event.jpg
END:VEVENT
BEGIN:VEVENT
DTSTART;TZID=America/Indiana/Indianapolis:20260626T193000
DTEND;TZID=America/Indiana/Indianapolis:20260626T213000
DTSTAMP:20260423T080915
CREATED:20260310T135621Z
LAST-MODIFIED:20260310T135621Z
UID:10001420-1782502200-1782509400@browncountyplayhouse.org
SUMMARY:Motley 2: Touring Tribute to Motley Crue
DESCRIPTION:Based in Los Angeles\, California\, Motley 2 is the premier\, internationally touring tribute to Motley Crue that captures the entire look\, feel\, and sound that hardcore Crue fans know and love. They have toured extensively across the nation and abroad\, and have performed at casinos\, bars\, clubs\, festivals\, state fairs\, concerts in the parks\, and corporate events. \nBUY TICKETS\n\n \nBUY TICKETS
URL:https://browncountyplayhouse.org/event/motley2-2026/
LOCATION:Brown County Playhouse\, 70 S. Van Buren St\, Nashville\, IN\, 47448\, United States
CATEGORIES:Clasic Rock,Featured Event
ATTACH;FMTTYPE=image/jpeg:https://browncountyplayhouse.org/wp-content/uploads/2026/03/2026-M2_web_event.jpg
END:VEVENT
END:VCALENDAR