BEGIN:VCALENDAR
VERSION:2.0
PRODID:-//Brown County Playhouse - ECPv6.15.20//NONSGML v1.0//EN
CALSCALE:GREGORIAN
METHOD:PUBLISH
X-WR-CALNAME:Brown County Playhouse
X-ORIGINAL-URL:https://browncountyplayhouse.org
X-WR-CALDESC:Events for Brown County Playhouse
REFRESH-INTERVAL;VALUE=DURATION:PT1H
X-Robots-Tag:noindex
X-PUBLISHED-TTL:PT1H
BEGIN:VTIMEZONE
TZID:America/Indiana/Indianapolis
BEGIN:DAYLIGHT
TZOFFSETFROM:-0500
TZOFFSETTO:-0400
TZNAME:EDT
DTSTART:20250309T070000
END:DAYLIGHT
BEGIN:STANDARD
TZOFFSETFROM:-0400
TZOFFSETTO:-0500
TZNAME:EST
DTSTART:20251102T060000
END:STANDARD
BEGIN:DAYLIGHT
TZOFFSETFROM:-0500
TZOFFSETTO:-0400
TZNAME:EDT
DTSTART:20260308T070000
END:DAYLIGHT
BEGIN:STANDARD
TZOFFSETFROM:-0400
TZOFFSETTO:-0500
TZNAME:EST
DTSTART:20261101T060000
END:STANDARD
BEGIN:DAYLIGHT
TZOFFSETFROM:-0500
TZOFFSETTO:-0400
TZNAME:EDT
DTSTART:20270314T070000
END:DAYLIGHT
BEGIN:STANDARD
TZOFFSETFROM:-0400
TZOFFSETTO:-0500
TZNAME:EST
DTSTART:20271107T060000
END:STANDARD
END:VTIMEZONE
BEGIN:VEVENT
DTSTART;TZID=America/Indiana/Indianapolis:20260319T140000
DTEND;TZID=America/Indiana/Indianapolis:20260319T170000
DTSTAMP:20260422T051026
CREATED:20251204T190203Z
LAST-MODIFIED:20260223T203444Z
UID:10001393-1773928800-1773939600@browncountyplayhouse.org
SUMMARY:Senior Movie Series: Poms
DESCRIPTION:Meredith Funeral Home\, in partnership with the historic Brown County Playhouse\, is excited to\noffer a Free Monthly Movie Series for those aged 60 and over. Enjoy a classic film with friends\, free\npopcorn\, and a soda—all in the comfort of the historic Brown County Playhouse! \n\nWhen:\nMAR 19\, 2026 – Poms\nAPR 16\, 2026 – Book Club\nMay 21\, 2026 – Senior Moment\nTime: 2:00 p.m. Doors open at 1:00 p.m.\nWhere: Historic Brown County Playhouse\, 70 S Van Buren St. in Nashville\, IN\nNo ticket is necessary\, and admission is free for those 60 and over. For those under 60\, admission is just\n$7.\n\nThis initiative is part of the Meredith family’s ongoing commitment to giving back to the community. Bill\nand Jamie Meredith\, along with their dedicated staff\, are excited to create a monthly opportunity for\nseniors to connect with others and enjoy a time of fellowship. \nCelebrating 50 years of exceptional customer service\, Meredith Funeral Home remains locally\nowned and operated. Throughout these years\, they have earned the trust of the community by\nproviding compassionate\, dignified services at an affordable price. \nWe invite you to join us for an afternoon of movies\, community\, and memories. We look forward to\nseeing you at the Brown County Playhouse Senior Movie Series! \n  \n—————————————- \n\nPOMS is an uplifting comedy about a woman (played by Keaton) who moves into a retirement community and starts a cheerleading squad with her fellow residents\, including Pam Grier and Jacki Weaver.\n\n \nFREE EVENT FOR SENIORS OVER 60 - UNDER 60 CONTACT BOX OFFICE
URL:https://browncountyplayhouse.org/event/senior-movie-series-poms/
LOCATION:Brown County Playhouse\, 70 S. Van Buren St\, Nashville\, IN\, 47448\, United States
CATEGORIES:Featured Event,Movies
ATTACH;FMTTYPE=image/jpeg:https://browncountyplayhouse.org/wp-content/uploads/2025/12/SR-MOVIE-POMS-web_event.jpg
END:VEVENT
END:VCALENDAR