BEGIN:VCALENDAR
VERSION:2.0
PRODID:-//Brown County Playhouse - ECPv6.15.20//NONSGML v1.0//EN
CALSCALE:GREGORIAN
METHOD:PUBLISH
X-ORIGINAL-URL:https://browncountyplayhouse.org
X-WR-CALDESC:Events for Brown County Playhouse
REFRESH-INTERVAL;VALUE=DURATION:PT1H
X-Robots-Tag:noindex
X-PUBLISHED-TTL:PT1H
BEGIN:VTIMEZONE
TZID:America/Indiana/Indianapolis
BEGIN:DAYLIGHT
TZOFFSETFROM:-0500
TZOFFSETTO:-0400
TZNAME:EDT
DTSTART:20250309T070000
END:DAYLIGHT
BEGIN:STANDARD
TZOFFSETFROM:-0400
TZOFFSETTO:-0500
TZNAME:EST
DTSTART:20251102T060000
END:STANDARD
BEGIN:DAYLIGHT
TZOFFSETFROM:-0500
TZOFFSETTO:-0400
TZNAME:EDT
DTSTART:20260308T070000
END:DAYLIGHT
BEGIN:STANDARD
TZOFFSETFROM:-0400
TZOFFSETTO:-0500
TZNAME:EST
DTSTART:20261101T060000
END:STANDARD
BEGIN:DAYLIGHT
TZOFFSETFROM:-0500
TZOFFSETTO:-0400
TZNAME:EDT
DTSTART:20270314T070000
END:DAYLIGHT
BEGIN:STANDARD
TZOFFSETFROM:-0400
TZOFFSETTO:-0500
TZNAME:EST
DTSTART:20271107T060000
END:STANDARD
END:VTIMEZONE
BEGIN:VEVENT
DTSTART;TZID=America/Indiana/Indianapolis:20260224T160000
DTEND;TZID=America/Indiana/Indianapolis:20260224T173000
DTSTAMP:20260424T044834
CREATED:20251127T183807Z
LAST-MODIFIED:20260205T204501Z
UID:10001397-1771948800-1771954200@browncountyplayhouse.org
SUMMARY:All The Queen's Horses - FREE MOVIE
DESCRIPTION:Nonprofit Assist through the Brown County Community Foundation invites you:\n\nDear Community Leaders\, \nDo you watch true crime and think\, “That could never happen here”? \nIt can—and it has. Even well-intentioned organizations can find themselves vulnerable when proper financial safeguards aren’t in place with internal controls. \nYou’re invited to a compelling documentary screening and expert panel discussion of All the Queen’s Horses—a real-world story that underscores why strong accounting protocols\, second-signer policies\, and regular audits are not just best practices\, but essential protections for your mission\, your donors\, and your reputation. \nWhy attend? \n\nLearn how small gaps in oversight can lead to devastating consequences\nUnderstand practical\, common-sense financial safeguards every organization should have\nHear local insights during a post-film panel discussion focused on prevention—not blame\nStrengthen trust with donors\, congregants\, and the public\n\n\nFebruary 24\, 2026\n\n4:00 pm – popcorn provided\n\nBrown County Playhouse\n70 S Van Buren Street\nNashville\, Indiana 47448\n\nREGISTER
URL:https://browncountyplayhouse.org/event/all-the-queens-horses-2026/
LOCATION:Brown County Playhouse\, 70 S. Van Buren St\, Nashville\, IN\, 47448\, United States
CATEGORIES:Movies
ATTACH;FMTTYPE=image/jpeg:https://browncountyplayhouse.org/wp-content/uploads/2026/01/2026-QUEENSHORSES_web_event.jpg
END:VEVENT
END:VCALENDAR