BEGIN:VCALENDAR
VERSION:2.0
PRODID:-//Brown County Playhouse - ECPv6.15.20//NONSGML v1.0//EN
CALSCALE:GREGORIAN
METHOD:PUBLISH
X-WR-CALNAME:Brown County Playhouse
X-ORIGINAL-URL:https://browncountyplayhouse.org
X-WR-CALDESC:Events for Brown County Playhouse
REFRESH-INTERVAL;VALUE=DURATION:PT1H
X-Robots-Tag:noindex
X-PUBLISHED-TTL:PT1H
BEGIN:VTIMEZONE
TZID:America/Indiana/Indianapolis
BEGIN:DAYLIGHT
TZOFFSETFROM:-0500
TZOFFSETTO:-0400
TZNAME:EDT
DTSTART:20250309T070000
END:DAYLIGHT
BEGIN:STANDARD
TZOFFSETFROM:-0400
TZOFFSETTO:-0500
TZNAME:EST
DTSTART:20251102T060000
END:STANDARD
BEGIN:DAYLIGHT
TZOFFSETFROM:-0500
TZOFFSETTO:-0400
TZNAME:EDT
DTSTART:20260308T070000
END:DAYLIGHT
BEGIN:STANDARD
TZOFFSETFROM:-0400
TZOFFSETTO:-0500
TZNAME:EST
DTSTART:20261101T060000
END:STANDARD
BEGIN:DAYLIGHT
TZOFFSETFROM:-0500
TZOFFSETTO:-0400
TZNAME:EDT
DTSTART:20270314T070000
END:DAYLIGHT
BEGIN:STANDARD
TZOFFSETFROM:-0400
TZOFFSETTO:-0500
TZNAME:EST
DTSTART:20271107T060000
END:STANDARD
END:VTIMEZONE
BEGIN:VEVENT
DTSTART;TZID=America/Indiana/Indianapolis:20260619T193000
DTEND;TZID=America/Indiana/Indianapolis:20260619T213000
DTSTAMP:20260424T094124
CREATED:20260416T185335Z
LAST-MODIFIED:20260417T030058Z
UID:10001441-1781897400-1781904600@browncountyplayhouse.org
SUMMARY:An Evening of Classic Country feat. The Roundups and Bakersfield Bound
DESCRIPTION:An Evening of Classic Country featuring Bakersfield Bound & The Roundups Brown County Playhouse \nA classic country double-header you won’t want to miss. Bakersfield Bound and The Roundups join forces for one night of the songs and sounds that never go out of style — rich harmonies\, amazing fiddle playing\, fantastic guitar picking\, and stories that still ring true. Whether you grew up on this music or you’re just finding it\, this is an evening worth dressing up for. \nBUY TICKETS\n\n 
URL:https://browncountyplayhouse.org/event/an-evening-of-classic-country-2026/
LOCATION:Brown County Playhouse\, 70 S. Van Buren St\, Nashville\, IN\, 47448\, United States
CATEGORIES:Country,Featured Event,Music,Pop Rock
ATTACH;FMTTYPE=image/jpeg:https://browncountyplayhouse.org/wp-content/uploads/2026/04/2026ClassicCountry_web_event.jpg
END:VEVENT
END:VCALENDAR