BEGIN:VCALENDAR
VERSION:2.0
PRODID:-//Brown County Playhouse - ECPv6.15.20//NONSGML v1.0//EN
CALSCALE:GREGORIAN
METHOD:PUBLISH
X-ORIGINAL-URL:https://browncountyplayhouse.org
X-WR-CALDESC:Events for Brown County Playhouse
REFRESH-INTERVAL;VALUE=DURATION:PT1H
X-Robots-Tag:noindex
X-PUBLISHED-TTL:PT1H
BEGIN:VTIMEZONE
TZID:America/Indiana/Indianapolis
BEGIN:DAYLIGHT
TZOFFSETFROM:-0500
TZOFFSETTO:-0400
TZNAME:EDT
DTSTART:20250309T070000
END:DAYLIGHT
BEGIN:STANDARD
TZOFFSETFROM:-0400
TZOFFSETTO:-0500
TZNAME:EST
DTSTART:20251102T060000
END:STANDARD
BEGIN:DAYLIGHT
TZOFFSETFROM:-0500
TZOFFSETTO:-0400
TZNAME:EDT
DTSTART:20260308T070000
END:DAYLIGHT
BEGIN:STANDARD
TZOFFSETFROM:-0400
TZOFFSETTO:-0500
TZNAME:EST
DTSTART:20261101T060000
END:STANDARD
BEGIN:DAYLIGHT
TZOFFSETFROM:-0500
TZOFFSETTO:-0400
TZNAME:EDT
DTSTART:20270314T070000
END:DAYLIGHT
BEGIN:STANDARD
TZOFFSETFROM:-0400
TZOFFSETTO:-0500
TZNAME:EST
DTSTART:20271107T060000
END:STANDARD
END:VTIMEZONE
BEGIN:VEVENT
DTSTART;TZID=America/Indiana/Indianapolis:20260214T193000
DTEND;TZID=America/Indiana/Indianapolis:20260214T213000
DTSTAMP:20260421T090922
CREATED:20251125T045535Z
LAST-MODIFIED:20260207T145852Z
UID:10001386-1771097400-1771104600@browncountyplayhouse.org
SUMMARY:🚨SOLD OUT! 🚨 Thunderstruck - America's AD/DC Tribute
DESCRIPTION:🚨SOLD OUT! 🚨 \nThunderstruck: America’s AC/DC delivers the high-voltage energy\, power\, and spirit of the real AC/DC with unmatched authenticity. From Kyle LaPato’s electrifying Angus Young performance to Bobby Lee Stamper’s spot-on vocals\, this band captures the true rock experience! \nBUY TICKETS\n\n \n 
URL:https://browncountyplayhouse.org/event/thunderstruck-acdc-tribute-2026/
LOCATION:Brown County Playhouse\, 70 S. Van Buren St\, Nashville\, IN\, 47448\, United States
CATEGORIES:Clasic Rock,Featured Event,Music
ATTACH;FMTTYPE=image/jpeg:https://browncountyplayhouse.org/wp-content/uploads/2025/11/2026-ACDC_web_event-1.jpg
END:VEVENT
END:VCALENDAR